BEGIN:VCALENDAR
VERSION:2.0
PRODID:-//Find A Coin Dealer - ECPv6.15.20//NONSGML v1.0//EN
CALSCALE:GREGORIAN
METHOD:PUBLISH
X-WR-CALNAME:Find A Coin Dealer
X-ORIGINAL-URL:https://findacoindealer.com
X-WR-CALDESC:Events for Find A Coin Dealer
REFRESH-INTERVAL;VALUE=DURATION:PT1H
X-Robots-Tag:noindex
X-PUBLISHED-TTL:PT1H
BEGIN:VTIMEZONE
TZID:America/New_York
BEGIN:DAYLIGHT
TZOFFSETFROM:-0500
TZOFFSETTO:-0400
TZNAME:EDT
DTSTART:20250309T070000
END:DAYLIGHT
BEGIN:STANDARD
TZOFFSETFROM:-0400
TZOFFSETTO:-0500
TZNAME:EST
DTSTART:20251102T060000
END:STANDARD
BEGIN:DAYLIGHT
TZOFFSETFROM:-0500
TZOFFSETTO:-0400
TZNAME:EDT
DTSTART:20260308T070000
END:DAYLIGHT
BEGIN:STANDARD
TZOFFSETFROM:-0400
TZOFFSETTO:-0500
TZNAME:EST
DTSTART:20261101T060000
END:STANDARD
BEGIN:DAYLIGHT
TZOFFSETFROM:-0500
TZOFFSETTO:-0400
TZNAME:EDT
DTSTART:20270314T070000
END:DAYLIGHT
BEGIN:STANDARD
TZOFFSETFROM:-0400
TZOFFSETTO:-0500
TZNAME:EST
DTSTART:20271107T060000
END:STANDARD
END:VTIMEZONE
BEGIN:VEVENT
DTSTART;TZID=America/New_York:20260828T110000
DTEND;TZID=America/New_York:20260829T160000
DTSTAMP:20260421T164409
CREATED:20260209T185518Z
LAST-MODIFIED:20260209T231716Z
UID:676-1787914800-1788019200@findacoindealer.com
SUMMARY:2026 Annual Sumter Coin And Currency Show
DESCRIPTION:FREE Admission \nFREE Parking \nFREE Hourly Door Prizes \nFREE Appraisals \nOn-Site ANACS Coin Grading \nScouting Merit Badge Clinic-Sat @ 10 am \n56 Tables Of All Kinds Of Numismatics and Paper Money \n1/10 oz. Gold Coin Raffle \nOn Site Kitchen Menu Selections \nUniformed Security For The Entire Event \nFamily Friendly Fun For All Ages \nHave A Question About The Show? Fill Out The Form Below. \n\n← Back Thank you for your response. ✨\n\n\n					\n						\n							\n							\n						\n						\n						\n						\n						\n							\n								\n									\n										\n										\n									\n									\n										\n										\n									\n								\n							\n						\n						\n							\n								\n									\n									\n										\n									\n									\n									\n								\n							\n						\n					\n				\n\n\n\nName(required)\n\n \n			\n				\n					\n						\n						\n						\n					\n				\n				\n			 \n	\n\n\nEmail(required)\n\n \n			\n				\n					\n						\n						\n						\n					\n				\n				\n			 \n	\n\n\nWebsite\n\n \n			\n				\n					\n						\n						\n						\n					\n				\n				\n			 \n	\n\n\nMessage\n\n \n			\n				\n					\n						\n						\n						\n					\n				\n				\n			\n	\n	\n\n				\n					\n				\n						Submit		\n		\n		\n	 \nΔ
URL:https://findacoindealer.com/event/2026-annual-sumter-coin-and-currency-show/
LOCATION:Saint Mark Banquet And Conference Center\, 2320 Four Bridges Road\, Sumter\, SC\, 29153\, United States
CATEGORIES:South Carolina
ATTACH;FMTTYPE=image/jpeg:https://findacoindealer.com/wp-content/uploads/2026/02/3263248844475299408.jpg
ORGANIZER;CN="Sumter Coin Club":MAILTO:sumtercoinclub@gmail.com
END:VEVENT
BEGIN:VEVENT
DTSTART;TZID=America/New_York:20261029T100000
DTEND;TZID=America/New_York:20261031T170000
DTSTAMP:20260421T164409
CREATED:20260103T133940Z
LAST-MODIFIED:20260103T133940Z
UID:454-1793268000-1793466000@findacoindealer.com
SUMMARY:South Carolina Numismatic Association 54th Annual Convention
DESCRIPTION:Admission Is FREE!!! \nBourse hours are 10:00am to 5:30 pm Thursday and Friday\, October 29\, 30\, and 10:00am to 4:00pm on Saturday\, October 31. \n  \n\n\n\nThe show offers a 200+ table dealer bourse area.\nWhile there is no cost to enter the show\, there will be a $10 parking fee collected by the Greenville Convention Center\nDealers in coins and paper money from across the Southeast will be present to buy\, sell\, and trade all types of coins\, tokens\, medals\, currency\, and paper money.\nBSA Scouting Coin Collecting Merit Badge Clinic– 10:00 AM Saturday ONLY. $5 fee. E-mailSCNA_Webmaster@yahoo.com to register\nMany dealers will provide free\, informal appraisals for visitors who bring coins and paper money.\nThird Party Grading service\, ANACS will be available for submissions and Free verbal opinions as to your coin’s grade and authenticity.\nYoung Numismatist Coin Carnival all day on Saturday   Games\, quizzes\, goodies and prizes!\n\n\n\n\nHotel Deal\n\n\n\n We have set up a group rate deal with a hotel near by the convention center.  There are some things that each person must do to get the deal for the show.  Hotel is 1.5 miles from Convention Center and you do not need to use Interstate travel between. \n\n\n  \n\n\n1    Call the Comfort Inn Greenville\, Hayward Mall 245 Congaree Rd 864.288.1200\, ask for a room for SCNA Show.  You will be asked for a credit card information which will not be charged until you arrive. \n\n\n  \n\n\n2    You must reserve your room before Oct 1\, 2026 and choose a Queen Double or a Single King Room.
URL:https://findacoindealer.com/event/south-carolina-numismatic-association-54th-annual-convention/
LOCATION:Greenville Convention Center\, 1 Exposition Drive\, Greenville\, SC\, 29607\, United States
CATEGORIES:South Carolina
ATTACH;FMTTYPE=image/jpeg:https://findacoindealer.com/wp-content/uploads/2026/01/IMG_8905-1-1.jpg
ORGANIZER;CN="South Carolina Numismatic Association":MAILTO:secretary@sc-na.org
END:VEVENT
END:VCALENDAR